BEGIN:VCALENDAR
PRODID:-//Feedo Feed//NONSGML v1.0//EN
VERSION:2.0
CALSCALE:GREGORIAN
METHOD:PUBLISH
X-WR-CALNAME:Australian Association of Practice Managers (AAPM)     
X-WR-CALDESC:
X-MS-OLK-FORCEINSPECTOROPEN:TRUE
BEGIN:VEVENT
DTSTAMP:20190301T151032Z
DTSTART:20130925T000000Z
DTEND:20130928T060000Z
TRANSP:TRANSPARENT
UID:12013-09-25
SUMMARY:Australian Association of Practice Managers (AAPM)     
DESCRIPTION:
URL:http://www.financialgrace.com.au/component/ohanah/australian-association-of-practice-managers-aapm?format=html&amp;Itemid=
CATEGORIES:Upcoming Events
GEO:
LOCATION:Sydney Convention and Exhibition Centre
END:VEVENT
END:VCALENDAR