BEGIN:VCALENDAR
PRODID:-//Feedo Feed//NONSGML v1.0//EN
VERSION:2.0
CALSCALE:GREGORIAN
METHOD:PUBLISH
X-WR-CALNAME:Brian Costello is coming to Tambo
X-WR-CALDESC:
X-MS-OLK-FORCEINSPECTOROPEN:TRUE
BEGIN:VEVENT
DTSTAMP:20190301T151156Z
DTSTART:20150515T150000Z
DTEND:20150515T150000Z
TRANSP:TRANSPARENT
UID:42015-05-15
SUMMARY:Brian Costello is coming to Tambo
DESCRIPTION:
URL:http://www.financialgrace.com.au/component/ohanah/brian-costello-is-coming-to-tambo?format=html&amp;Itemid=
CATEGORIES:Upcoming Events
GEO:-24.884629;146.25362599999994
LOCATION:Grassland Art Gallery Room
END:VEVENT
END:VCALENDAR