BEGIN:VCALENDAR
PRODID:-//Feedo Feed//NONSGML v1.0//EN
VERSION:2.0
CALSCALE:GREGORIAN
METHOD:PUBLISH
X-WR-CALNAME:Discover your Hidden Wealth (Victor Harbor, SA)
X-WR-CALDESC:The Discover Your Hidden Wealth workshop is a two day workshop designed to teach you how to create wealth safely, build a strong personal asset base and achieve financial independence. Please click following links for Brian's profile.For more information or to book, please contact the event co-ordinator Sam Gorringe at [emailÂÂ protected]/*  */ or phone 0418 991 178Who should attend the Discover Your Hidden Wealth workshop? Those aged between 16-80, who want to learn about the different strategies and alternatives for creating wealth and growing their asset base to achieve financial independence and a strong family succession for generations to come.How much does the workshop cost? The cost of the workshop is $770 per person or $990 per couple. (GST inclusive) 50% discounts are availableWhat will I receive at the workshop? You will receive a copy of the presentation material and you will be provided with morning, afternoon tea and lunch.
X-MS-OLK-FORCEINSPECTOROPEN:TRUE
BEGIN:VEVENT
DTSTAMP:20190301T151538Z
DTSTART:20170527T090000Z
DTEND:20170527T090000Z
TRANSP:TRANSPARENT
UID:212017-05-27
SUMMARY:Discover your Hidden Wealth (Victor Harbor, SA)
DESCRIPTION:The Discover Your Hidden Wealth workshop is a two day workshop designed to teach you how to create wealth safely, build a strong personal asset base and achieve financial independence. Please click following links for Brian's profile.For more information or to book, please contact the event co-ordinator Sam Gorringe at [emailÂÂ protected]/*  */ or phone 0418 991 178Who should attend the Discover Your Hidden Wealth workshop? Those aged between 16-80, who want to learn about the different strategies and alternatives for creating wealth and growing their asset base to achieve financial independence and a strong family succession for generations to come.How much does the workshop cost? The cost of the workshop is $770 per person or $990 per couple. (GST inclusive) 50% discounts are availableWhat will I receive at the workshop? You will receive a copy of the presentation material and you will be provided with morning, afternoon tea and lunch.
URL:http://www.financialgrace.com.au/component/ohanah/copy-of-copy-of-discover-your-hidden-wealth-6-1-2?format=html&amp;Itemid=
CATEGORIES:Upcoming Events
GEO:-35.5536635;138.62440330000004
LOCATION:Anchorage Seafront Hotel
END:VEVENT
END:VCALENDAR