BEGIN:VCALENDAR
PRODID:-//Feedo Feed//NONSGML v1.0//EN
VERSION:2.0
CALSCALE:GREGORIAN
METHOD:PUBLISH
X-WR-CALNAME:Discover your hidden wealth
X-WR-CALDESC:\nThe Discover Your\nHidden Wealth workshop is a two\nday workshop designed to teach you how to create wealth safely, build a strong personal asset base and achieve financial\nindependence. \n\n
X-MS-OLK-FORCEINSPECTOROPEN:TRUE
BEGIN:VEVENT
DTSTAMP:20190301T151224Z
DTSTART:20160427T000000Z
DTEND:20160427T000000Z
TRANSP:TRANSPARENT
UID:62016-04-27
SUMMARY:Discover your hidden wealth
DESCRIPTION:\nThe Discover Your\nHidden Wealth workshop is a two\nday workshop designed to teach you how to create wealth safely, build a strong personal asset base and achieve financial\nindependence. \n\n
URL:http://www.financialgrace.com.au/component/ohanah/discover-your-hidden-wealth-1?format=html&amp;Itemid=
CATEGORIES:Upcoming Events
GEO:
LOCATION:To be advised
END:VEVENT
END:VCALENDAR