BEGIN:VCALENDAR
PRODID:-//Feedo Feed//NONSGML v1.0//EN
VERSION:2.0
CALSCALE:GREGORIAN
METHOD:PUBLISH
X-WR-CALNAME:Discover your Hidden Wealth
X-WR-CALDESC:\nThe Discover Your Hidden Wealth workshop is a two day\nworkshop designed to teach you how to create wealth safely,\nbuild a strong personal asset base and achieve\nfinancial independence. \n\n
X-MS-OLK-FORCEINSPECTOROPEN:TRUE
BEGIN:VEVENT
DTSTAMP:20190301T151247Z
DTSTART:20160618T090000Z
DTEND:20160619T170000Z
TRANSP:TRANSPARENT
UID:82016-06-18
SUMMARY:Discover your Hidden Wealth
DESCRIPTION:\nThe Discover Your Hidden Wealth workshop is a two day\nworkshop designed to teach you how to create wealth safely,\nbuild a strong personal asset base and achieve\nfinancial independence. \n\n
URL:http://www.financialgrace.com.au/component/ohanah/discover-your-hidden-wealth-3?format=html&amp;Itemid=
CATEGORIES:Upcoming Events
GEO:
LOCATION:Wrest Point
END:VEVENT
END:VCALENDAR