BEGIN:VCALENDAR
PRODID:-//Feedo Feed//NONSGML v1.0//EN
VERSION:2.0
CALSCALE:GREGORIAN
METHOD:PUBLISH
X-WR-CALNAME:Discover your Hidden Wealth
X-WR-CALDESC:\nThe Discover Your Hidden Wealth workshop is a two day\nworkshop designed to teach you how to create wealth safely,\nbuild a strong personal asset base and achieve\nfinancial independence. \n\n
X-MS-OLK-FORCEINSPECTOROPEN:TRUE
BEGIN:VEVENT
DTSTAMP:20190301T151331Z
DTSTART:20160803T000000Z
DTEND:20160803T000000Z
TRANSP:TRANSPARENT
UID:112016-08-03
SUMMARY:Discover your Hidden Wealth
DESCRIPTION:\nThe Discover Your Hidden Wealth workshop is a two day\nworkshop designed to teach you how to create wealth safely,\nbuild a strong personal asset base and achieve\nfinancial independence. \n\n
URL:http://www.financialgrace.com.au/component/ohanah/discover-your-hidden-wealth-5?format=html&amp;Itemid=
CATEGORIES:Upcoming Events
GEO:
LOCATION:Care Balonne Association
END:VEVENT
END:VCALENDAR