BEGIN:VCALENDAR
PRODID:-//Feedo Feed//NONSGML v1.0//EN
VERSION:2.0
CALSCALE:GREGORIAN
METHOD:PUBLISH
X-WR-CALNAME:Discover your Hidden Wealth
X-WR-CALDESC:
X-MS-OLK-FORCEINSPECTOROPEN:TRUE
BEGIN:VEVENT
DTSTAMP:20190301T151416Z
DTSTART:20171118T090000Z
DTEND:20171119T160000Z
TRANSP:TRANSPARENT
UID:152017-11-18
SUMMARY:Discover your Hidden Wealth
DESCRIPTION:
URL:http://www.financialgrace.com.au/component/ohanah/discover-your-hidden-wealth-6?format=html&amp;Itemid=
CATEGORIES:Upcoming Events
GEO:-27.3629294;153.06147799999996
LOCATION:Brisbane International Virginia
END:VEVENT
END:VCALENDAR