BEGIN:VCALENDAR
PRODID:-//Feedo Feed//NONSGML v1.0//EN
VERSION:2.0
CALSCALE:GREGORIAN
METHOD:PUBLISH
X-WR-CALNAME:Discover your Hidden Wealth (Sydney)
X-WR-CALDESC:TheDiscover Your Hidden Wealthworkshop is a two day workshop designed to teach you how to create wealth safely, build a strong personal asset base and achieve financial independence.Please click following links forBrian's profile.For more information or to book, please contact the event co-ordinator Sam Gorringe at sam.gorringe@financialgrace.com.au or phone 0418 991 178Who should attend the Discover Your Hidden Wealth workshop?Those aged between 16-80, who want to learn about the different strategies and alternatives for creating wealth and growing their asset base to achieve financial independence and a strong family succession for generations to come.How much does the workshop cost?The cost of the workshop is $770 per person or $990 per couple. (GST inclusive)50% discounts are availableWhat will I receive at the workshop?You will receive a copy of the presentation material and you will be provided with morning, afternoon tea and lunch.
X-MS-OLK-FORCEINSPECTOROPEN:TRUE
BEGIN:VEVENT
DTSTAMP:20190301T151611Z
DTSTART:20170508T000000Z
DTEND:20170508T060000Z
TRANSP:TRANSPARENT
UID:252017-05-08
SUMMARY:Discover your Hidden Wealth (Sydney)
DESCRIPTION:TheDiscover Your Hidden Wealthworkshop is a two day workshop designed to teach you how to create wealth safely, build a strong personal asset base and achieve financial independence.Please click following links forBrian's profile.For more information or to book, please contact the event co-ordinator Sam Gorringe at sam.gorringe@financialgrace.com.au or phone 0418 991 178Who should attend the Discover Your Hidden Wealth workshop?Those aged between 16-80, who want to learn about the different strategies and alternatives for creating wealth and growing their asset base to achieve financial independence and a strong family succession for generations to come.How much does the workshop cost?The cost of the workshop is $770 per person or $990 per couple. (GST inclusive)50% discounts are availableWhat will I receive at the workshop?You will receive a copy of the presentation material and you will be provided with morning, afternoon tea and lunch.
URL:http://www.financialgrace.com.au/component/ohanah/discover-your-hidden-wealth-7?format=html&amp;Itemid=
CATEGORIES:Upcoming Events
GEO:-33.9262553;151.18786909999994
LOCATION:Holiday Inn Sydney Airport
END:VEVENT
END:VCALENDAR