BEGIN:VCALENDAR
PRODID:-//Feedo Feed//NONSGML v1.0//EN
VERSION:2.0
CALSCALE:GREGORIAN
METHOD:PUBLISH
X-WR-CALNAME:Discover Your Hidden Wealth
X-WR-CALDESC:Click here to view Event FlyerEmerald Thursday and Friday,30th & 31st AugustVenue: Western Gateway Motel - Ph 1300 032 75912 Theresa Street, Emerald QLD 472Financial Grace is the third generation of service providing education, and support in matters financial.Financial Grace is unbiased educational first, and if requested we can create a union between personalneeds and circumstances with investment exposures.Our goal is to provide financial independence through education and ongoing support. We aim to provideclients with the expertise and appropriate tools to take control of their own investments.The Discover Your Hidden Wealth workshop is a two-day workshop designed to teach you how to createwealth safely, build a strong personal asset base and achieve financial independence.Topics include:• Why We Invest• Asset Classes and Economic Cycles• Compounding and The Four Laws• Super, Taxation and borrowing strategiesWho should attend the Discover Your Hidden Wealth workshop?Those aged between 16-80yrs, who want to learn about the different strategies and alternativesfor creating wealth and growing their asset base to achieve financial independence and a strongfamily succession for generations to come.How much does the workshop cost? (GST inclusive)• $770 per person• $990 per couple• $220 for those aged 16 to 25 years• 50% discount for those who have previously attended this workshopWhat will I receive at the workshop?You will receive a copy of the presentation material and you will be provided with morning, afternoon tea and lunch.To register, call Sam on 0418 991 178 now, as limited seats available!E: sam.gorringe@financialgrace.com.au
X-MS-OLK-FORCEINSPECTOROPEN:TRUE
BEGIN:VEVENT
DTSTAMP:20190301T151642Z
DTSTART:20180830T080000Z
DTEND:20180831T180000Z
TRANSP:TRANSPARENT
UID:262018-08-30
SUMMARY:Discover Your Hidden Wealth
DESCRIPTION:Click here to view Event FlyerEmerald Thursday and Friday,30th & 31st AugustVenue: Western Gateway Motel - Ph 1300 032 75912 Theresa Street, Emerald QLD 472Financial Grace is the third generation of service providing education, and support in matters financial.Financial Grace is unbiased educational first, and if requested we can create a union between personalneeds and circumstances with investment exposures.Our goal is to provide financial independence through education and ongoing support. We aim to provideclients with the expertise and appropriate tools to take control of their own investments.The Discover Your Hidden Wealth workshop is a two-day workshop designed to teach you how to createwealth safely, build a strong personal asset base and achieve financial independence.Topics include:• Why We Invest• Asset Classes and Economic Cycles• Compounding and The Four Laws• Super, Taxation and borrowing strategiesWho should attend the Discover Your Hidden Wealth workshop?Those aged between 16-80yrs, who want to learn about the different strategies and alternativesfor creating wealth and growing their asset base to achieve financial independence and a strongfamily succession for generations to come.How much does the workshop cost? (GST inclusive)• $770 per person• $990 per couple• $220 for those aged 16 to 25 years• 50% discount for those who have previously attended this workshopWhat will I receive at the workshop?You will receive a copy of the presentation material and you will be provided with morning, afternoon tea and lunch.To register, call Sam on 0418 991 178 now, as limited seats available!E: sam.gorringe@financialgrace.com.au
URL:http://www.financialgrace.com.au/component/ohanah/discover-your-hidden-wealth-8?format=html&amp;Itemid=
CATEGORIES:Upcoming Events
GEO:
LOCATION:Western Gateway Motel - Ph  1300 032 759
END:VEVENT
END:VCALENDAR