BEGIN:VCALENDAR
PRODID:-//Feedo Feed//NONSGML v1.0//EN
VERSION:2.0
CALSCALE:GREGORIAN
METHOD:PUBLISH
X-WR-CALNAME:Discover Your Hidden Wealth (Dubbo)
X-WR-CALDESC:The Discover\nYour Hidden Wealth workshop is a two-day\nworkshop designed to teach you how to create wealth safely,\nbuild a strong personal asset base and achieve\nfinancial independence.Please click following links for the workshop flyer and Brian's profile.For more information or to book, please contact the event co-ordinator\nSam Gorringe at sam.gorringe@financialgrace.com.au or phone 0418 991 178Workshop Cost as follows:Adult $700 + GST\nCouple $900 + GST\nYoung Adult under 25yrs $400 + GST\n50% Discounts to Existing Clients and Past attendees\nOther discounts may apply, call Sam Gorringe to find out\n
X-MS-OLK-FORCEINSPECTOROPEN:TRUE
BEGIN:VEVENT
DTSTAMP:20190301T151407Z
DTSTART:20161008T090000Z
DTEND:20161009T170000Z
TRANSP:TRANSPARENT
UID:142016-10-08
SUMMARY:Discover Your Hidden Wealth (Dubbo)
DESCRIPTION:The Discover\nYour Hidden Wealth workshop is a two-day\nworkshop designed to teach you how to create wealth safely,\nbuild a strong personal asset base and achieve\nfinancial independence.Please click following links for the workshop flyer and Brian's profile.For more information or to book, please contact the event co-ordinator\nSam Gorringe at sam.gorringe@financialgrace.com.au or phone 0418 991 178Workshop Cost as follows:Adult $700 + GST\nCouple $900 + GST\nYoung Adult under 25yrs $400 + GST\n50% Discounts to Existing Clients and Past attendees\nOther discounts may apply, call Sam Gorringe to find out\n
URL:http://www.financialgrace.com.au/component/ohanah/discover-your-hidden-wealth-dubbo?format=html&amp;Itemid=
CATEGORIES:Upcoming Events
GEO:
LOCATION:Matilda Motor Inn
END:VEVENT
END:VCALENDAR