BEGIN:VCALENDAR
PRODID:-//Feedo Feed//NONSGML v1.0//EN
VERSION:2.0
CALSCALE:GREGORIAN
METHOD:PUBLISH
X-WR-CALNAME:Discover your hidden wealth
X-WR-CALDESC:
X-MS-OLK-FORCEINSPECTOROPEN:TRUE
BEGIN:VEVENT
DTSTAMP:20190301T151211Z
DTSTART:20160312T090000Z
DTEND:20160312T090000Z
TRANSP:TRANSPARENT
UID:52016-03-12
SUMMARY:Discover your hidden wealth
DESCRIPTION:
URL:http://www.financialgrace.com.au/component/ohanah/discover-your-hidden-wealth?format=html&amp;Itemid=
CATEGORIES:Upcoming Events
GEO:
LOCATION:Rydges Hotel Hobart
END:VEVENT
END:VCALENDAR