BEGIN:VCALENDAR
PRODID:-//Feedo Feed//NONSGML v1.0//EN
VERSION:2.0
CALSCALE:GREGORIAN
METHOD:PUBLISH
X-WR-CALNAME:Dubbo WorkShop (Sept 2016)
X-WR-CALDESC:Financial Grace is the third generation of a service providing education and support in matters financial.Financial Grace is unbiased educational first, and if requested we can create a union between personal needs and circumstances with investment exposures.Our goal is to provide financial independence through education and ongoing support. We aim to provide clients with the expertise and appropriate tools to take control of their own investments.\n \n  Please click following links for the workshop flyer and Brian's profile.For\nmore information or to book, please contact the event co-ordinator Sam Gorringe\nat sam.gorringe@financialgrace.com.au or phone 0418 991 178Who should attend the Discover Your Hidden Wealth workshop?Those aged between 16-80, who want to learn about the different strategies and alternatives for creating wealth and growing their asset base to achieve financial independence and a strong family succession for generations to come.\nHow much does the workshop cost?The cost of the workshop is $770 per person or $990 per couple. (GST inclusive)\n50% discounts are available\nWhat will I receive at the workshop?You will receive a copy of the presentation material and you will be provided with morning, afternoon tea and lunch.\n\n\n
X-MS-OLK-FORCEINSPECTOROPEN:TRUE
BEGIN:VEVENT
DTSTAMP:20190301T151354Z
DTSTART:20160910T090000Z
DTEND:20160911T170000Z
TRANSP:TRANSPARENT
UID:132016-09-10
SUMMARY:Dubbo WorkShop (Sept 2016)
DESCRIPTION:Financial Grace is the third generation of a service providing education and support in matters financial.Financial Grace is unbiased educational first, and if requested we can create a union between personal needs and circumstances with investment exposures.Our goal is to provide financial independence through education and ongoing support. We aim to provide clients with the expertise and appropriate tools to take control of their own investments.\n \n  Please click following links for the workshop flyer and Brian's profile.For\nmore information or to book, please contact the event co-ordinator Sam Gorringe\nat sam.gorringe@financialgrace.com.au or phone 0418 991 178Who should attend the Discover Your Hidden Wealth workshop?Those aged between 16-80, who want to learn about the different strategies and alternatives for creating wealth and growing their asset base to achieve financial independence and a strong family succession for generations to come.\nHow much does the workshop cost?The cost of the workshop is $770 per person or $990 per couple. (GST inclusive)\n50% discounts are available\nWhat will I receive at the workshop?You will receive a copy of the presentation material and you will be provided with morning, afternoon tea and lunch.\n\n\n
URL:http://www.financialgrace.com.au/component/ohanah/dubbo-workshop-sept-2016?format=html&amp;Itemid=
CATEGORIES:Upcoming Events
GEO:
LOCATION:Matilda Motor Inn
END:VEVENT
END:VCALENDAR