BEGIN:VCALENDAR
PRODID:-//Feedo Feed//NONSGML v1.0//EN
VERSION:2.0
CALSCALE:GREGORIAN
METHOD:PUBLISH
X-WR-CALNAME:Planning for Prosperity and Growth
X-WR-CALDESC:On farm investment, off farm investment or a bit of both?An opportunity to consider your options for growing your business and generating wealth to meet the future needs of your family.The first of three seminars on this topic. Presented by Mark Gardener of Vanguard Business Services and Brian Costello of Financial Grace Pty Ltd.Topics include: What for? Who for? When? Selecting a strategy that fits. Spoilt for choice. Off farm and on farm strategies to consider. Investing in shares in 2016, slow and steady or boots n all?
X-MS-OLK-FORCEINSPECTOROPEN:TRUE
BEGIN:VEVENT
DTSTAMP:20190301T151304Z
DTSTART:20160628T083000Z
DTEND:20160628T083000Z
TRANSP:TRANSPARENT
UID:92016-06-28
SUMMARY:Planning for Prosperity and Growth
DESCRIPTION:On farm investment, off farm investment or a bit of both?An opportunity to consider your options for growing your business and generating wealth to meet the future needs of your family.The first of three seminars on this topic. Presented by Mark Gardener of Vanguard Business Services and Brian Costello of Financial Grace Pty Ltd.Topics include: What for? Who for? When? Selecting a strategy that fits. Spoilt for choice. Off farm and on farm strategies to consider. Investing in shares in 2016, slow and steady or boots n all?
URL:http://www.financialgrace.com.au/component/ohanah/planning-for-prosperity-and-growth?format=html&amp;Itemid=
CATEGORIES:Upcoming Events
GEO:-28.0342054;147.47722279999994
LOCATION:Civic Centre, Bollon
END:VEVENT
END:VCALENDAR