BEGIN:VCALENDAR
PRODID:-//Feedo Feed//NONSGML v1.0//EN
VERSION:2.0
CALSCALE:GREGORIAN
METHOD:PUBLISH
X-WR-CALNAME:Rural Medicine Australia    
X-WR-CALDESC:
X-MS-OLK-FORCEINSPECTOROPEN:TRUE
BEGIN:VEVENT
DTSTAMP:20190301T151141Z
DTSTART:20131029T140000Z
DTEND:20131101T200000Z
TRANSP:TRANSPARENT
UID:32013-10-30
SUMMARY:Rural Medicine Australia    
DESCRIPTION:
URL:http://www.financialgrace.com.au/component/ohanah/rural-medicine-australia?format=html&amp;Itemid=
CATEGORIES:Upcoming Events
GEO:-16.9121525;145.7637916
LOCATION:Cairns Convention Centre
END:VEVENT
END:VCALENDAR