BEGIN:VCALENDAR
PRODID:-//Feedo Feed//NONSGML v1.0//EN
VERSION:2.0
CALSCALE:GREGORIAN
METHOD:PUBLISH
X-WR-CALNAME:Share Trading Essentials 
X-WR-CALDESC:\n\nThe Share Trading Essentials workshop is a one-day\nworkshop and unique program designed to provide Traders with the knowledge and\ntools to be successful in share market trading. Â \n\n
X-MS-OLK-FORCEINSPECTOROPEN:TRUE
BEGIN:VEVENT
DTSTAMP:20190301T151344Z
DTSTART:20160802T000000Z
DTEND:20160802T000000Z
TRANSP:TRANSPARENT
UID:122016-08-02
SUMMARY:Share Trading Essentials 
DESCRIPTION:\n\nThe Share Trading Essentials workshop is a one-day\nworkshop and unique program designed to provide Traders with the knowledge and\ntools to be successful in share market trading. Â \n\n
URL:http://www.financialgrace.com.au/component/ohanah/share-trading-essentials?format=html&amp;Itemid=
CATEGORIES:Upcoming Events
GEO:
LOCATION:Care Balonne Association
END:VEVENT
END:VCALENDAR