BEGIN:VCALENDAR
PRODID:-//Feedo Feed//NONSGML v1.0//EN
VERSION:2.0
CALSCALE:GREGORIAN
METHOD:PUBLISH
X-WR-CALNAME:The Future Food and Fibre Conference
X-WR-CALDESC:The Future Food and Fibre Conference to be held on 16th and 17th March 2017 is aimed at innovative and forward thinking farmers and graziers who are poised to take advantage of opportunities opening up for Australian agriculture. Exploring global trends through the three perspectives (family farms, technology and big data, and diversification), participants will learn about themselves, their opportunities, and the tools they need to exploit those opportunities in two days at Capella in the heart of Central Queensland’s best agricultural land.
X-MS-OLK-FORCEINSPECTOROPEN:TRUE
BEGIN:VEVENT
DTSTAMP:20190301T151627Z
DTSTART:20170316T000000Z
DTEND:20170316T000000Z
TRANSP:TRANSPARENT
UID:242017-03-16
SUMMARY:The Future Food and Fibre Conference
DESCRIPTION:The Future Food and Fibre Conference to be held on 16th and 17th March 2017 is aimed at innovative and forward thinking farmers and graziers who are poised to take advantage of opportunities opening up for Australian agriculture. Exploring global trends through the three perspectives (family farms, technology and big data, and diversification), participants will learn about themselves, their opportunities, and the tools they need to exploit those opportunities in two days at Capella in the heart of Central Queensland’s best agricultural land.
URL:http://www.financialgrace.com.au/component/ohanah/the-future-food-and-fibre-conference?format=html&amp;Itemid=
CATEGORIES:Upcoming Events
GEO:-23.0870611;148.02345919999993
LOCATION:Cultural Centre
END:VEVENT
END:VCALENDAR