BEGIN:VCALENDAR
PRODID:-//Feedo Feed//NONSGML v1.0//EN
VERSION:2.0
CALSCALE:GREGORIAN
METHOD:PUBLISH
X-WR-CALNAME:The Royal Australian College of General Practitioners annual conference   
X-WR-CALDESC:
X-MS-OLK-FORCEINSPECTOROPEN:TRUE
BEGIN:VEVENT
DTSTAMP:20190301T151128Z
DTSTART:20131017T000000Z
DTEND:20131019T060000Z
TRANSP:TRANSPARENT
UID:22013-10-17
SUMMARY:The Royal Australian College of General Practitioners annual conference   
DESCRIPTION:
URL:http://www.financialgrace.com.au/component/ohanah/the-royal-australian-college-of-general-practitioners-annual-conference?format=html&amp;Itemid=
CATEGORIES:Upcoming Events
GEO:
LOCATION:Darwin Convention and Exhibition Centre
END:VEVENT
END:VCALENDAR